BEGIN:VCALENDAR
VERSION:2.0
PRODID:-//ChamberMaster//Event Calendar 2.0//EN
METHOD:PUBLISH
X-PUBLISHED-TTL:P3D
REFRESH-INTERVAL:P3D
CALSCALE:GREGORIAN
BEGIN:VEVENT
DTSTART:20210424T150000Z
DTEND:20210424T173000Z
X-MICROSOFT-CDO-ALLDAYEVENT:FALSE
SUMMARY:Mommy & Me Tea Party Mini Photo session
DESCRIPTION:Celebrate your Mother with a special Mommy & Me Tea Party! Times available: 10:00\, 10:30\, 11:00\, 11:30\, 12:00. $20 Non-refundable deposit due at the time of booking
X-ALT-DESC;FMTTYPE=text/html:Celebrate your Mother with a special Mommy &amp\; Me Tea Party! Times available: 10:00\, 10:30\, 11:00\, 11:30\, 12:00. $20 Non-refundable deposit due at the time of booking
LOCATION:Fairhope\, AL
UID:e.1304.20642
SEQUENCE:3
DTSTAMP:20260423T210324Z
URL:https://business.eschamber.com/events/details/mommy-me-tea-party-mini-photo-session-20642
END:VEVENT

END:VCALENDAR
