BEGIN:VCALENDAR
VERSION:2.0
PRODID:-//ChamberMaster//Event Calendar 2.0//EN
METHOD:PUBLISH
X-PUBLISHED-TTL:P3D
REFRESH-INTERVAL:P3D
CALSCALE:GREGORIAN
BEGIN:VEVENT
DTSTART:20230817T131500Z
DTEND:20230817T143000Z
X-MICROSOFT-CDO-ALLDAYEVENT:FALSE
SUMMARY:Morning Marketing: Fairhope - 8-17-23
DESCRIPTION:Morning Marketing's monthly roundtable setting offers each member a minute to introduce their business\, promote specials and plug upcoming events. \n\n\n\nThis month's Morning Marketing Sponsor is Synovus.
X-ALT-DESC;FMTTYPE=text/html:<div class="row gz-event-description" itemprop="about" style="box-sizing: border-box\; margin-right: -15px\; margin-left: -15px\; display: flex\; flex-wrap: wrap\; outline: 0px\; color: rgb(68\, 68\, 68)\; font-family: Khmer\, sans-serif\; font-size: 16px\;">\n<div class="col" style="box-sizing: border-box\; position: relative\; width: 1090px\; min-height: 1px\; padding-right: 15px\; padding-left: 15px\; flex-basis: 0px\; flex-grow: 1\; max-width: 100%\; outline: 0px\;">\n<p style="box-sizing: border-box\; margin: 0px 0px 1rem\; outline: 0px\;">Morning Marketing&#39\;s monthly roundtable setting offers each member a minute to introduce their business\, promote specials and plug upcoming events.&nbsp\;<br />\n<br />\nThis month&#39\;s Morning Marketing Sponsor is Synovus.&nbsp\;</p>\n\n<div>\n<div class="row gz-event-description" itemprop="about" style="box-sizing: border-box\; margin-right: -15px\; margin-left: -15px\; display: flex\; flex-wrap: wrap\; outline: 0px\; color: rgb(68\, 68\, 68)\; font-family: Khmer\, sans-serif\; font-size: 16px\;">\n<div class="col" style="box-sizing: border-box\; position: relative\; width: 1090px\; min-height: 1px\; padding-right: 15px\; padding-left: 15px\; flex-basis: 0px\; flex-grow: 1\; max-width: 100%\; outline: 0px\;">\n<p style="box-sizing: border-box\; margin: 0px 0px 1rem\; outline: 0px\;">&nbsp\;</p>\n\n<div>&nbsp\;</div>\n</div>\n</div>\n\n<div class="row gz-footer-navigation" role="navigation" style="box-sizing: border-box\; margin: 40px 0px\; display: flex\; flex-wrap: wrap\; font-size: 13.6px\; text-align: center\; color: rgb(68\, 68\, 68)\; font-family: Khmer\, sans-serif\;">&nbsp\;</div>\n</div>\n</div>\n</div>\n\n<div class="row gz-footer-navigation" role="navigation" style="box-sizing: border-box\; margin: 40px 0px\; display: flex\; flex-wrap: wrap\; font-size: 13.6px\; text-align: center\; color: rgb(68\, 68\, 68)\; font-family: Khmer\, sans-serif\;">&nbsp\;</div>\n
LOCATION:James P. Nix Center- Fairhope 1 Bayou Drive Fairhope\, AL 36532
UID:e.1304.27622
SEQUENCE:3
DTSTAMP:20260420T020851Z
URL:https://business.eschamber.com/events/details/morning-marketing-fairhope-8-17-23-27622
END:VEVENT

END:VCALENDAR
