BEGIN:VCALENDAR
VERSION:2.0
PRODID:-//ChamberMaster//Event Calendar 2.0//EN
METHOD:PUBLISH
X-PUBLISHED-TTL:P3D
REFRESH-INTERVAL:P3D
CALSCALE:GREGORIAN
BEGIN:VEVENT
DTSTART:20230216T141500Z
DTEND:20230216T150000Z
X-MICROSOFT-CDO-ALLDAYEVENT:FALSE
SUMMARY:Morning Marketing Meeting: Fairhope
DESCRIPTION:Morning Marketing's monthly roundtable setting offers each member a minute to introduce their business\, promote specials and plug upcoming events.
X-ALT-DESC;FMTTYPE=text/html:Morning Marketing&#39\;s monthly roundtable setting offers each member a minute to introduce their business\, promote specials and plug upcoming events.&nbsp\;
LOCATION:James P. Nix Center- Fairhope 1 Bayou Drive Fairhope\, AL 36532
UID:e.1304.26587
SEQUENCE:3
DTSTAMP:20260421T164617Z
URL:https://business.eschamber.com/events/details/morning-marketing-meeting-fairhope-26587
END:VEVENT

END:VCALENDAR
