BEGIN:VCALENDAR
VERSION:2.0
PRODID:-//ChamberMaster//Event Calendar 2.0//EN
METHOD:PUBLISH
X-PUBLISHED-TTL:P3D
REFRESH-INTERVAL:P3D
CALSCALE:GREGORIAN
BEGIN:VEVENT
DTSTART:20260425T170000Z
DTEND:20260425T210000Z
X-MICROSOFT-CDO-ALLDAYEVENT:FALSE
SUMMARY:Mother's Day Painting at The Kiln
DESCRIPTION:Paint a planter\, tray\, or vase to be fired in time for the perfect Mother's Day gift! Details: - $40 per piece - Includes glaze paints and firing - Ready for pickup before Mother's Day Plus\, shop our Patio Sale - $5\, $10\, & $15 handmade pottery gifts for mom!
X-ALT-DESC;FMTTYPE=text/html:Paint a planter\, tray\, or vase to be fired in time for the perfect Mother&#39\;s Day gift! Details: - $40 per piece - Includes glaze paints and firing - Ready for pickup before Mother&rsquo\;s Day Plus\, shop our Patio Sale - $5\, $10\, &amp\; $15 handmade pottery gifts for mom!
LOCATION:The Kiln Studio 265 Young Street\, Fairhope\, AL 36532
UID:e.1304.40503
SEQUENCE:3
DTSTAMP:20260422T022226Z
URL:https://business.eschamber.com/events/details/mother-s-day-painting-at-the-kiln-40503
END:VEVENT

END:VCALENDAR
