BEGIN:VCALENDAR
VERSION:2.0
PRODID:-//ChamberMaster//Event Calendar 2.0//EN
METHOD:PUBLISH
X-PUBLISHED-TTL:P3D
REFRESH-INTERVAL:P3D
CALSCALE:GREGORIAN
BEGIN:VEVENT
DTSTART:20191124T003000Z
DTEND:20191124T023000Z
X-MICROSOFT-CDO-ALLDAYEVENT:FALSE
SUMMARY:Movie in the Street: On Fairhope Avenue
DESCRIPTION:Choo! Choo! All aboard the Polar Express for a trip to the North Pole! Come and enjoy a movie under the stars as the City of Fairhope and the Downtown Business Association celebrates the upcoming holiday season with the 10th Annual "Movie in the Street: On Fairhope Avneue" near the intersection of Section Street and Fairhope Avenue. Those who plan to attend can bring lawn chairs and blankets from home. Children are invited to wear their holiday pajamas!
X-ALT-DESC;FMTTYPE=text/html:Choo! Choo! All aboard the Polar Express for a trip to the North Pole! Come and enjoy a movie under the stars as the City of Fairhope and the Downtown Business Association celebrates the upcoming holiday season with the 10th Annual &quot\;Movie in the Street: On Fairhope Avneue&quot\; near the intersection of Section Street and Fairhope Avenue. Those who plan to attend can bring lawn chairs and blankets from home. Children are invited to wear their holiday pajamas!
LOCATION:Downtown Fairhope near the intersection of Section Street and Fairhope Avenue
UID:e.1304.13128
SEQUENCE:3
DTSTAMP:20260419T144307Z
URL:https://business.eschamber.com/events/details/movie-in-the-street-on-fairhope-avenue-11-23-2019-13128
END:VEVENT

END:VCALENDAR
