BEGIN:VCALENDAR
VERSION:2.0
PRODID:-//ChamberMaster//Event Calendar 2.0//EN
METHOD:PUBLISH
X-PUBLISHED-TTL:P3D
REFRESH-INTERVAL:P3D
CALSCALE:GREGORIAN
BEGIN:VEVENT
DTSTART:20210718T000000Z
DTEND:20210718T020000Z
X-MICROSOFT-CDO-ALLDAYEVENT:FALSE
SUMMARY:Movie on the Bluff
DESCRIPTION:Panini Pete's and Coastal Alabama Real Estate (CARE) are happy to present Movie on the Bluff at Henry George Park. Bring a chair or blanket! Popcorn and drinks will be available!  Beignets provided by Panini Pete's. \n\nDonations are not required but appreciated. Any amounts received will go to benefit Pete's PR Foundation for the Johnny & Krystal Home Sweet Home Project.
X-ALT-DESC;FMTTYPE=text/html:Panini Pete&#39\;s and Coastal Alabama Real Estate (CARE) are happy to present Movie on the Bluff at Henry George Park. Bring a chair or blanket! Popcorn and drinks will be available!&nbsp\; Beignets provided by Panini Pete&#39\;s.&nbsp\;<br />\nDonations are not required but appreciated. Any amounts received will go to benefit Pete&#39\;s PR Foundation for the Johnny &amp\; Krystal Home Sweet Home Project.
LOCATION:Henry George Park (on the bluff)\, Fairhope\, AL
UID:e.1304.22074
SEQUENCE:3
DTSTAMP:20260420T114805Z
URL:https://business.eschamber.com/events/details/movie-on-the-bluff-07-17-2021-22074
END:VEVENT

END:VCALENDAR
