BEGIN:VCALENDAR
VERSION:2.0
PRODID:-//ChamberMaster//Event Calendar 2.0//EN
METHOD:PUBLISH
X-PUBLISHED-TTL:P3D
REFRESH-INTERVAL:P3D
CALSCALE:GREGORIAN
BEGIN:VEVENT
DTSTART:20210515T233000Z
DTEND:20210516T013000Z
X-MICROSOFT-CDO-ALLDAYEVENT:FALSE
SUMMARY:Movie on the Bluff
DESCRIPTION:Enjoy a free movie on us! Sponsored by Coastal Alabama Real Estate (CARE). Bring a chair or blanket\, and enjoy the movie! Donations not required by are appreciated! Any amounts received will go to benefit Fairhope Schools.
X-ALT-DESC;FMTTYPE=text/html:Enjoy a free movie on us! Sponsored by Coastal Alabama Real Estate (CARE). Bring a chair or blanket\, and enjoy the movie! Donations not required by are appreciated! Any amounts received will go to benefit Fairhope Schools.
LOCATION:Henry George Park (on the bluff)\, Fairhope\, AL
UID:e.1304.20600
SEQUENCE:3
DTSTAMP:20260423T191627Z
URL:https://business.eschamber.com/events/details/movie-on-the-bluff-20600
END:VEVENT

END:VCALENDAR
