BEGIN:VCALENDAR
VERSION:2.0
PRODID:-//ChamberMaster//Event Calendar 2.0//EN
METHOD:PUBLISH
X-PUBLISHED-TTL:P3D
REFRESH-INTERVAL:P3D
CALSCALE:GREGORIAN
BEGIN:VEVENT
DTSTART:20210327T230000Z
DTEND:20210328T000000Z
X-MICROSOFT-CDO-ALLDAYEVENT:FALSE
SUMMARY:Music Around the World
DESCRIPTION:Mobile Symphony Orchestra will host Music Around the World! Sponsored by the Shirk Family Foundation and Andra Bohnet. All aboard for a World of Great Music! Our tour will include Russia\, France and Austria. We will feature our Principal Harpist Katie Ott.
X-ALT-DESC;FMTTYPE=text/html:Mobile Symphony Orchestra will host Music Around the World! Sponsored by the Shirk Family Foundation and Andra Bohnet. All aboard for a World of Great Music! Our tour will include Russia\, France and Austria. We will feature our Principal Harpist Katie Ott.
LOCATION:Mobile Saenger Theatre\, 6 S. Joachim Street\, Mobile\, AL
UID:e.1304.20471
SEQUENCE:3
DTSTAMP:20260423T204506Z
URL:https://business.eschamber.com/events/details/music-around-the-world-20471
END:VEVENT

END:VCALENDAR
