BEGIN:VCALENDAR
VERSION:2.0
PRODID:-//ChamberMaster//Event Calendar 2.0//EN
METHOD:PUBLISH
X-PUBLISHED-TTL:P3D
REFRESH-INTERVAL:P3D
CALSCALE:GREGORIAN
BEGIN:VEVENT
DTSTART;VALUE=DATE:20210320
DTEND;VALUE=DATE:20210321
TRANSP:TRANSPARENT
X-MICROSOFT-CDO-ALLDAYEVENT:TRUE
SUMMARY:Gulf Coast Regional Mustang & Mega Car Show
DESCRIPTION:It's finally time for the 41st annual Gulf Coast Regional Mustang & Mega Car Show! This event was rescheduled from 2020 due to COVID-19. This dazzling car show (presented by the Gulf Coast Regional Mustang Club) will be held at OWA on Saturday\, Mar. 20 from 8am-5pm. Guests may attend for free. \n\nDo you want to participate? There may be a small donation required to register your vehicle. More registration info coming soon! \n\nJoin us for a day-long adventure as we journey through different types of vehicles   from classic mustangs to (you guessed it!) MEGA cars. \n\nDetails TBA | Date/Time Subject to Change\n\nThis is a socially-distanced event. We invite you to learn more about OWA's enhanced health and safety policies.
X-ALT-DESC;FMTTYPE=text/html:<p><span style="color:rgb(242\, 121\, 0)">It&rsquo\;s finally time for the 41st annual Gulf Coast Regional Mustang &amp\; Mega Car Show!</span>&nbsp\;This event was rescheduled from 2020 due to COVID-19. This dazzling car show (presented by the Gulf Coast Regional Mustang Club) will be held at&nbsp\;<span style="color:rgb(0\, 78\, 39)">OWA on Saturday\, Mar. 20 from 8am-5pm</span>. Guests may attend for free.&nbsp\;</p>\n\n<p>Do you want to participate? There may be a small donation required to register your vehicle. More registration info coming soon!&nbsp\;</p>\n\n<p>Join us for a day-long adventure as we journey through different types of vehicles &mdash\; from classic mustangs to (you guessed it!) MEGA cars.&nbsp\;</p>\n\n<p>Details TBA | Date/Time Subject to Change</p>\n\n<p>This is a socially-distanced event. We invite you to&nbsp\;<a href="https://visitowa.com/knowbeforeyougo/" style="box-sizing: border-box\; background-color: transparent\; color: rgb(23\, 40\, 82)\; max-width: unset\; cursor: pointer\;">learn more</a>&nbsp\;about OWA&rsquo\;s enhanced health and safety policies.</p>\n
LOCATION:Downtown OWA 1501 S OWA Blvd Foley\, AL 36535
UID:e.1304.17686
SEQUENCE:3
DTSTAMP:20260423T204425Z
URL:https://business.eschamber.com/events/details/mustang-car-show-17686
END:VEVENT

END:VCALENDAR
