BEGIN:VCALENDAR
VERSION:2.0
PRODID:-//ChamberMaster//Event Calendar 2.0//EN
METHOD:PUBLISH
X-PUBLISHED-TTL:P3D
REFRESH-INTERVAL:P3D
CALSCALE:GREGORIAN
BEGIN:VEVENT
DTSTART:20201114T220000Z
DTEND:20201115T020000Z
X-MICROSOFT-CDO-ALLDAYEVENT:FALSE
SUMMARY:Nachtspiele OWA
DESCRIPTION:Save the date for Nachtspiele OWA\, pronounced nahkht-spie-le\, on November 14 in Downtown OWA! Meaning "Night Games" in German\, you can enjoy German entertainment\, food\, and brews in Downtown OWA while teams compete for a chance to win The Nachtspiele Gauntlet. These are the games you want to win! Get your team of four together (no more\, no less)\, and start practicing today.
X-ALT-DESC;FMTTYPE=text/html:<span style="background-color:rgb(240\, 244\, 244)\; color:rgb(69\, 80\, 93)\; font-family:avenirnextltpro-regular\; font-size:16px">Save the date for&nbsp\;</span><span style="background-color:rgb(240\, 244\, 244)\; color:rgb(199\, 122\, 62)\; font-family:avenirnextltpro-regular\; font-size:16px">Nachtspiele OWA</span><span style="background-color:rgb(240\, 244\, 244)\; color:rgb(69\, 80\, 93)\; font-family:avenirnextltpro-regular\; font-size:16px">\, pronounced nahkht-spie-le\, on November 14 in Downtown OWA! Meaning &ldquo\;Night Games&rdquo\; in German\, you can enjoy German entertainment\, food\, and brews in Downtown OWA while teams compete for a chance to win The Nachtspiele Gauntlet. These are the games you want to win! Get your team of four together (no more\, no less)\, and start practicing today.</span>
LOCATION:Downtown OWA 1501 S. OWA Blvd. Foley\, Al 36535
UID:e.1304.14849
SEQUENCE:3
DTSTAMP:20260424T031638Z
URL:https://business.eschamber.com/events/details/nachtspiele-owa-14849
END:VEVENT

END:VCALENDAR
