BEGIN:VCALENDAR
VERSION:2.0
PRODID:-//ChamberMaster//Event Calendar 2.0//EN
METHOD:PUBLISH
X-PUBLISHED-TTL:P3D
REFRESH-INTERVAL:P3D
CALSCALE:GREGORIAN
BEGIN:VEVENT
DTSTART:20210513T220000Z
DTEND:20210514T000000Z
X-MICROSOFT-CDO-ALLDAYEVENT:FALSE
SUMMARY:Go Public Gardens Night Stroll at Bellingrath Gardens and Home
DESCRIPTION:Join us for the Go Public Gardens Night Stroll from 5 to 7 p.m. on Thursday\, May 13\, 2021. This event is held in conjunction with Go Public Gardens Days\, an initiative presented by the American Public Gardens Association to promote the importance of public gardens. Enjoy a demonstration on spring floral arrangements and container gardening with Barbara Smith\, Display Horticulture Designer and Plant Recorder. Beer and wine will be available for purchase. Admission to the Go Public Gardens Night Stroll is free to Members of the Friends of Bellingrath. For non-members\, admission is the same as regular Gardens admission: $14 for adults and $8 for ages 5-12. There is no admission fee for ages 4 and younger.
X-ALT-DESC;FMTTYPE=text/html:Join us for the Go Public Gardens Night Stroll from 5 to 7 p.m. on Thursday\, May 13\, 2021. This event is held in conjunction with&nbsp\;<span style="color:rgb(97\, 97\, 97)\; font-family:open sans\,sans-serif\; font-size:14px">Go Public Gardens Days\, an initiative presented by the American Public Gardens Association to promote the importance of public gardens.</span><span style="color:rgb(34\, 34\, 34)">&nbsp\;</span>Enjoy a demonstration on spring floral arrangements and container gardening with Barbara Smith\, <span style="color:rgb(97\, 97\, 97)\; font-family:open sans\,sans-serif\; font-size:14px">Display Horticulture Designer and Plant Recorder</span>.&nbsp\;Beer and wine will be available for purchase.&nbsp\;<span style="color:rgb(97\, 97\, 97)\; font-family:open sans\,sans-serif\; font-size:14px">Admission to the Go Public Gardens Night Stroll is free to Members of the Friends of Bellingrath. For non-members\, admission is the same as regular Gardens admission: $14 for adults and $8 for ages 5-12. There is no admission fee for ages 4 and younger.</span>
LOCATION:Bellingrath Gardens and Home\, 12401 Bellingrath Gardens Road\, Theodore\, AL 36582
UID:e.1304.3161
SEQUENCE:3
DTSTAMP:20260423T175520Z
URL:https://business.eschamber.com/events/details/national-public-gardens-day-at-bellingrath-gardens-and-home-3161
END:VEVENT

END:VCALENDAR
