BEGIN:VCALENDAR
VERSION:2.0
PRODID:-//ChamberMaster//Event Calendar 2.0//EN
METHOD:PUBLISH
X-PUBLISHED-TTL:P3D
REFRESH-INTERVAL:P3D
CALSCALE:GREGORIAN
BEGIN:VEVENT
DTSTART:20250427T003000Z
DTEND:20250427T023000Z
X-MICROSOFT-CDO-ALLDAYEVENT:FALSE
SUMMARY:Neil Simon's Rumors
DESCRIPTION:Theatre 98 presents Neil Simon's "Rumors" directed by Scotty O. White.\n\n\n\nPerformances begin promptly at show time.  Patrons who are not in their seats prior to doors closing will not be admitted until intermission.
X-ALT-DESC;FMTTYPE=text/html:Theatre 98 presents Neil Simon's "Rumors" directed by Scotty O. White.<br>\n<br>\nPerformances begin promptly at show time.&nbsp\; Patrons who are not in their seats prior to doors closing will not be admitted until intermission.<br>\n&nbsp\;
LOCATION:Theatre 98\, 350 Morphy Avenue Fairhope\, AL 36532
UID:e.1304.37305
SEQUENCE:3
DTSTAMP:20260426T001101Z
URL:https://business.eschamber.com/events/details/neil-simon-s-rumors-04-26-2025-37305
END:VEVENT

END:VCALENDAR
