BEGIN:VCALENDAR
VERSION:2.0
PRODID:-//ChamberMaster//Event Calendar 2.0//EN
METHOD:PUBLISH
X-PUBLISHED-TTL:P3D
REFRESH-INTERVAL:P3D
CALSCALE:GREGORIAN
BEGIN:VEVENT
DTSTART:20210722T170000Z
DTEND:20210722T180000Z
X-MICROSOFT-CDO-ALLDAYEVENT:FALSE
SUMMARY:Network at Noon: Rock Creek Golf Club Clubhouse
DESCRIPTION:Network at Noon: Rock Creek Golf Club Clubhouse
X-ALT-DESC;FMTTYPE=text/html:Network at Noon: Rock Creek Golf Club Clubhouse
LOCATION:140 Clubhouse Drive Fairhope\, AL 36532
UID:e.1304.22054
SEQUENCE:3
DTSTAMP:20260420T115155Z
URL:https://business.eschamber.com/events/details/network-at-noon-rock-creek-golf-club-clubhouse-22054
END:VEVENT

END:VCALENDAR
