BEGIN:VCALENDAR
VERSION:2.0
PRODID:-//ChamberMaster//Event Calendar 2.0//EN
METHOD:PUBLISH
X-PUBLISHED-TTL:P3D
REFRESH-INTERVAL:P3D
CALSCALE:GREGORIAN
BEGIN:VEVENT
DTSTART:20230228T200000Z
DTEND:20230228T220000Z
X-MICROSOFT-CDO-ALLDAYEVENT:FALSE
SUMMARY:New Location Open House - Beef O'Brady's
DESCRIPTION:New Location Open House: Beef O'Brady's
X-ALT-DESC;FMTTYPE=text/html:New Location Open House: Beef O&#39\;Brady&#39\;s
LOCATION:8495 Spanish Fort Blvd Spanish Fort\, AL 36527
UID:e.1304.27299
SEQUENCE:3
DTSTAMP:20260421T164451Z
URL:https://business.eschamber.com/events/details/new-location-open-house-beef-o-brady-s-27299
END:VEVENT

END:VCALENDAR
