BEGIN:VCALENDAR
VERSION:2.0
PRODID:-//ChamberMaster//Event Calendar 2.0//EN
METHOD:PUBLISH
X-PUBLISHED-TTL:P3D
REFRESH-INTERVAL:P3D
CALSCALE:GREGORIAN
BEGIN:VEVENT
DTSTART:20230309T220000Z
DTEND:20230309T233000Z
X-MICROSOFT-CDO-ALLDAYEVENT:FALSE
SUMMARY:New Location Ribbon Cutting Open House - Knockout Inspections
DESCRIPTION:New Location Ribbon Cutting Open House - Knockout Inspections
X-ALT-DESC;FMTTYPE=text/html:&nbsp\;New Location Ribbon Cutting Open House - Knockout Inspections
LOCATION:9959 Windmill Rd Fairhope\, AL 36532
UID:e.1304.27314
SEQUENCE:3
DTSTAMP:20260421T201115Z
URL:https://business.eschamber.com/events/details/new-location-ribbon-cutting-open-house-knockout-inspections-27314
END:VEVENT

END:VCALENDAR
