BEGIN:VCALENDAR
VERSION:2.0
PRODID:-//ChamberMaster//Event Calendar 2.0//EN
METHOD:PUBLISH
X-PUBLISHED-TTL:P3D
REFRESH-INTERVAL:P3D
CALSCALE:GREGORIAN
BEGIN:VEVENT
DTSTART:20230816T184500Z
DTEND:20230816T200000Z
X-MICROSOFT-CDO-ALLDAYEVENT:FALSE
SUMMARY:New Location Ribbon Cutting/Open House - Novare The Roofing Professionals
DESCRIPTION:New Location Ribbon Cutting/Open House - Novare The Roofing Professionals
X-ALT-DESC;FMTTYPE=text/html:&nbsp\;New Location Ribbon Cutting/Open House - Novare The Roofing Professionals<br />\n
LOCATION:21875 AL-181 Fairhope\, AL 36532 (the building behind Fairhope Family Medicine)
UID:e.1304.27991
SEQUENCE:3
DTSTAMP:20260420T035620Z
URL:https://business.eschamber.com/events/details/new-location-ribbon-cutting-open-house-novare-the-roofing-professionals-27991
END:VEVENT

END:VCALENDAR
