BEGIN:VCALENDAR
VERSION:2.0
PRODID:-//ChamberMaster//Event Calendar 2.0//EN
METHOD:PUBLISH
X-PUBLISHED-TTL:P3D
REFRESH-INTERVAL:P3D
CALSCALE:GREGORIAN
BEGIN:VEVENT
DTSTART:20260615T220000Z
DTEND:20260616T010000Z
X-MICROSOFT-CDO-ALLDAYEVENT:FALSE
SUMMARY:NextHome Gulf Coast Living-Luke Day 2026
DESCRIPTION:In honor of our mascot Luke's birthday\, We celebrate June 15th as NextHome's annual day of community outreach - Luke Day. Each year\, NextHomies across the country come together to serve our local areas and the two- and four-legged friends that live there. NextHome Gulf Coast Living partners with The Haven. Moe's Original BBQ has offered to donate a portion of the proceeds for the night. We will be collecting cat and dog food for our local Pet Pantries. We will also have prizes and entertainment that night. Join us for great food\, games\, prizes\, and good company!
X-ALT-DESC;FMTTYPE=text/html:In honor of our mascot Luke&rsquo\;s birthday\, We celebrate June 15th as NextHome&rsquo\;s annual day of community outreach - Luke Day. Each year\, NextHomies across the country come together to serve our local areas and the two- and four-legged friends that live there. NextHome Gulf Coast Living partners with The Haven. Moe&#39\;s Original BBQ has offered to donate a portion of the proceeds for the night. We will be collecting cat and dog food for our local Pet Pantries. We will also have prizes and entertainment that night. Join us for great food\, games\, prizes\, and good company!
LOCATION:Moe's Original BBQ 6423 Bayfront Park Dr Daphne\, AL 36526
UID:e.1304.40502
SEQUENCE:3
DTSTAMP:20260422T040218Z
URL:https://business.eschamber.com/events/details/nexthome-gulf-coast-living-luke-day-2026-40502
END:VEVENT

END:VCALENDAR
