BEGIN:VCALENDAR
VERSION:2.0
PRODID:-//ChamberMaster//Event Calendar 2.0//EN
METHOD:PUBLISH
X-PUBLISHED-TTL:P3D
REFRESH-INTERVAL:P3D
CALSCALE:GREGORIAN
BEGIN:VEVENT
DTSTART:20230811T214500Z
DTEND:20230811T223000Z
X-MICROSOFT-CDO-ALLDAYEVENT:FALSE
SUMMARY:Open House/Ribbon Cutting: Boom Performance
DESCRIPTION:Open House/Ribbon Cutting: Boom Performance
X-ALT-DESC;FMTTYPE=text/html:Open House/Ribbon Cutting: Boom Performance
LOCATION:760 Middle Street Fairhope\, AL 36532
UID:e.1304.27960
SEQUENCE:3
DTSTAMP:20260420T035127Z
URL:https://business.eschamber.com/events/details/open-house-ribbon-cutting-boom-performance-27960
END:VEVENT

END:VCALENDAR
