BEGIN:VCALENDAR
VERSION:2.0
PRODID:-//ChamberMaster//Event Calendar 2.0//EN
METHOD:PUBLISH
X-PUBLISHED-TTL:P3D
REFRESH-INTERVAL:P3D
CALSCALE:GREGORIAN
BEGIN:VEVENT
DTSTART:20201204T230000Z
DTEND:20201205T000000Z
X-MICROSOFT-CDO-ALLDAYEVENT:FALSE
SUMMARY:Open House & Ribbon Cutting - Eastern Shore Lanes Barcade
DESCRIPTION:Open House & Ribbon Cutting - Eastern Shore Lanes Barcade
X-ALT-DESC;FMTTYPE=text/html:Open House &amp\; Ribbon Cutting - Eastern Shore Lanes Barcade
LOCATION:10460 Eastern Shore Blvd.\, Spanish Fort\, AL 36527
UID:e.1304.14929
SEQUENCE:3
DTSTAMP:20260424T014834Z
URL:https://business.eschamber.com/events/details/open-house-ribbon-cutting-eastern-shore-lanes-barcade-14929
END:VEVENT

END:VCALENDAR
