BEGIN:VCALENDAR
VERSION:2.0
PRODID:-//ChamberMaster//Event Calendar 2.0//EN
METHOD:PUBLISH
X-PUBLISHED-TTL:P3D
REFRESH-INTERVAL:P3D
CALSCALE:GREGORIAN
BEGIN:VEVENT
DTSTART:20210729T150000Z
DTEND:20210729T163000Z
X-MICROSOFT-CDO-ALLDAYEVENT:FALSE
SUMMARY:Open House & Ribbon Cutting: STEM For Kids Mobile Bay
DESCRIPTION:Open House & Ribbon Cutting: STEM For Kids Mobile Bay
X-ALT-DESC;FMTTYPE=text/html:Open House &amp\; Ribbon Cutting: STEM For Kids Mobile Bay
LOCATION:5906 Sweetwater Circle Fairhope\, AL 36532
UID:e.1304.22071
SEQUENCE:3
DTSTAMP:20260420T114830Z
URL:https://business.eschamber.com/events/details/open-house-ribbon-cutting-stem-for-kids-mobile-bay-22071
END:VEVENT

END:VCALENDAR
