BEGIN:VCALENDAR
VERSION:2.0
PRODID:-//ChamberMaster//Event Calendar 2.0//EN
METHOD:PUBLISH
X-PUBLISHED-TTL:P3D
REFRESH-INTERVAL:P3D
CALSCALE:GREGORIAN
BEGIN:VEVENT
DTSTART:20210311T160000Z
DTEND:20210311T220000Z
X-MICROSOFT-CDO-ALLDAYEVENT:FALSE
SUMMARY:Original Oyster House Hosts Job Fair
DESCRIPTION:Are you interested in working at one of our area's best known res taurants for great seafood\, scenery and southern hospitality? The Original Oyster House is looking for good people who want to work in a fun\, casual atmosphere with panoramic waterfront sunsets\, caring coworkers and competitive benefits. We are hiring cooks\, expediters\, prep cooks\, dishwashers\, bussers\, and hosts. Experience a culture that thrives on service\, recognition and financial reward. To learn more attend the Original Oyster House job fair at the Mobile Causeway restaurant on Thursday\, March 11\, 2021 from 10 am to 4 pm\, visit www.originaloysterhouse.com/jobs or call 251-928-2620 x 109.\n\nThe Original Oyster House will follow state health guidelines concerning COVID-19\, including social distancing and masks. The Original Oyster House has two locations\, Mobile: 3733 Battleship Parkway\, on the Causeway and Gulf Shores: 701 Gulf Shores Parkway on the Original Oyster House Boardwalk. Both locations offer spectacular waterfront views and have been celebrated as the area's finest family restaurants for the past 38 years. For more information about the Original Oyster House\, please visit www.originaloysterhouse.com or call 251-928-2620.
X-ALT-DESC;FMTTYPE=text/html:<p>Are you interested in working at one of our area&rsquo\;s best known res&shy\;taurants for great seafood\, scenery and southern hospitality? The Original Oyster House is looking for good people who want to work in a fun\, casual atmosphere with panoramic waterfront sunsets\, caring coworkers and competitive benefits. We are hiring cooks\, expediters\, prep cooks\, dishwashers\, bussers\, and hosts. Experience a culture that thrives on service\, recognition and financial reward. To learn more attend the Original Oyster House job fair at the Mobile Causeway restaurant on Thursday\, March 11\, 2021 from 10 am to 4 pm\, visit&nbsp\;<a href="http://www.originaloysterhouse.com/jobs" style="box-sizing: border-box\; text-decoration-line: none\; transition-property: color\, background-color\, border-color\; transition-duration: 0.2s\; transition-timing-function: linear\; color: rgb(109\, 7\, 26)\;">www.originaloysterhouse.com/jobs</a>&nbsp\;or call 251-928-2620&nbsp\;x 109.</p>\n\n<p>The Original Oyster House will follow state health guidelines concerning COVID-19\, including social distancing and masks. The Original Oyster House has two locations\, Mobile: 3733 Battleship Parkway\, on the Causeway and Gulf Shores: 701 Gulf Shores Parkway on the Original Oyster House Boardwalk. Both locations offer spectacular waterfront views and have been celebrated as the area&rsquo\;s finest family restaurants for the past 38 years. For more information about the Original Oyster House\, please visit www.originaloysterhouse.com or call 251-928-2620.</p>\n
LOCATION:Original Oyster House on the Mobile Causeway 3733 Battleship Parkway Spanish Fort\, AL 36527
UID:e.1304.19461
SEQUENCE:3
DTSTAMP:20260423T204758Z
URL:https://business.eschamber.com/events/details/original-oyster-house-hosts-job-fair-03-11-2021-19461
END:VEVENT

END:VCALENDAR
