BEGIN:VCALENDAR
VERSION:2.0
PRODID:-//ChamberMaster//Event Calendar 2.0//EN
METHOD:PUBLISH
X-PUBLISHED-TTL:P3D
REFRESH-INTERVAL:P3D
CALSCALE:GREGORIAN
BEGIN:VEVENT
DTSTART:20210130T180000Z
DTEND:20210130T220000Z
X-MICROSOFT-CDO-ALLDAYEVENT:FALSE
SUMMARY:OWA Arts & Crafts Festival
DESCRIPTION:OWA's immaculate Downtown entertainment district is the perfect backdrop for Coastal Alabama's newest arts and crafts festival! Immerse yourself in the sights and sounds of local art\, music\, and handcrafted goods\, and you'll even have the chance to make a little art yourself!
X-ALT-DESC;FMTTYPE=text/html:<h2 style="text-align:center"><strong><span style="color:rgb(48\, 84\, 162)">OWA&rsquo\;s immaculate Downtown entertainment district is the perfect backdrop for Coastal Alabama&rsquo\;s newest arts and crafts festival! Immerse yourself in the sights and sounds of local art\, music\, and handcrafted goods\, and you&rsquo\;ll even have the chance to make a little art yourself!</span></strong></h2>\n
LOCATION:Downtown OWA 1501 S. OWA Blvd Foley\, AL
UID:e.1304.16956
SEQUENCE:3
DTSTAMP:20260424T001558Z
URL:https://business.eschamber.com/events/details/owa-arts-crafts-festival-16956
END:VEVENT

END:VCALENDAR
