BEGIN:VCALENDAR
VERSION:2.0
PRODID:-//ChamberMaster//Event Calendar 2.0//EN
METHOD:PUBLISH
X-PUBLISHED-TTL:P3D
REFRESH-INTERVAL:P3D
CALSCALE:GREGORIAN
BEGIN:VEVENT
DTSTART:20251011T190000Z
DTEND:20251012T010000Z
X-MICROSOFT-CDO-ALLDAYEVENT:FALSE
SUMMARY:OWA Howl-o-ween Dog Costume Contest
DESCRIPTION:Bring the whole family\, two-legged and four-legged\, for Howl-o-ween in Downtown OWA on October 11th! Kids can enjoy free crafts\, face painting\, carnival games\, and festive activities\, while pups get their chance to shine in the Halloween Dog Costume Contest on OWA Island. With categories like Cutest\, Funniest\, Spookiest\, and Best Owner/Dog Duo\, furry contestants can win cash prizes up to $100. Registration is just $10 in advance or $15 the day of\, with all proceeds benefiting the Baldwin County Animal Shelter. After the contest\, stick around for Island Movie Night featuring Scooby-Doo 2: Monsters Unleashed. It's a paw-some way to celebrate Halloween with the whole family while giving back to a great cause!\n\n\n\nRegister your pup for the Halloween Costume Contest today: https://visitowa.com/howl-o-ween/.
X-ALT-DESC;FMTTYPE=text/html:Bring the whole family\, two-legged and four-legged\, for Howl-o-ween in Downtown OWA on October 11th! Kids can enjoy free crafts\, face painting\, carnival games\, and festive activities\, while pups get their chance to shine in the Halloween Dog Costume Contest on OWA Island. With categories like <em>Cutest\, Funniest\, Spookiest\,</em> and <em>Best Owner/Dog Duo\,</em> furry contestants can win cash prizes up to $100. Registration is just $10 in advance or $15 the day of\, with all proceeds benefiting the Baldwin County Animal Shelter. After the contest\, stick around for Island Movie Night featuring Scooby-Doo 2: Monsters Unleashed. It&rsquo\;s a paw-some way to celebrate Halloween with the whole family while giving back to a great cause!<br />\n<br />\nRegister your pup for the Halloween Costume Contest today:&nbsp\;https://visitowa.com/howl-o-ween/.
LOCATION:Downtown OWA
UID:e.1304.38579
SEQUENCE:3
DTSTAMP:20260419T124938Z
URL:https://business.eschamber.com/events/details/owa-howl-o-ween-dog-costume-contest-38579
END:VEVENT

END:VCALENDAR
