BEGIN:VCALENDAR
VERSION:2.0
PRODID:-//ChamberMaster//Event Calendar 2.0//EN
METHOD:PUBLISH
X-PUBLISHED-TTL:P3D
REFRESH-INTERVAL:P3D
CALSCALE:GREGORIAN
BEGIN:VEVENT
DTSTART:20200927T014500Z
DTEND:20200927T020000Z
X-MICROSOFT-CDO-ALLDAYEVENT:FALSE
SUMMARY:OWA Island Movie Nights Fireworks - CANCELED
DESCRIPTION:Due to the impact of Hurricane Sally this event has been canceled. \n\nAre you ready to join the resistance? Time to head to a new galaxy? Do you know what lasts longer than 12 parsecs? OWAs themed Fireworks show September 26 at 8:45pm. Prepare for a night of blasters and space smugglers\, as the festivities begin at 6pm. The night takes off with a themed costume contest\, complete with our own surprise characters!\n\n See what forces are at work during this entire event. Don't be a nerf herder! Bring out your best costumes and grab a blanket to share the galaxies best known movie with your secret twin September 26 starting at 6pm. What could make the night any better? A little bit of Pew Pew. Lighting up the night sky at 8:45pm OWA's very own Galaxy themed fireworks!
X-ALT-DESC;FMTTYPE=text/html:<p style="margin-left:0px\; margin-right:0px\; text-align:left"><strong>Due to the impact of Hurricane Sally this event has been canceled.&nbsp\;<br />\nAre you ready to join the resistance? Time to head to a new galaxy? Do you know what lasts longer than 12 parsecs? OWAs themed Fireworks show September 26 at 8:45pm. Prepare for a night of blasters and space smugglers\, as the festivities begin at 6pm. The night takes off with a themed costume contest\, complete with our own surprise characters!</strong></p>\n\n<p style="margin-left:0px\; margin-right:0px\; text-align:left"><strong>&nbsp\;See what forces are at work during this entire event. Don&rsquo\;t be a nerf herder! Bring out your best costumes and grab a blanket to share the galaxies best known movie with your secret twin September 26 starting at 6pm. What could make the night any better? A little bit of Pew Pew. Lighting up the night sky at 8:45pm OWA&rsquo\;s very own Galaxy themed fireworks!</strong></p>\n
LOCATION:1501 S OWA Blvd. Foley\, Al 36535
UID:e.1304.14303
SEQUENCE:3
DTSTAMP:20260424T070847Z
URL:https://business.eschamber.com/events/details/owa-island-movie-nights-fireworks-14303
END:VEVENT

END:VCALENDAR
