BEGIN:VCALENDAR
VERSION:2.0
PRODID:-//ChamberMaster//Event Calendar 2.0//EN
METHOD:PUBLISH
X-PUBLISHED-TTL:P3D
REFRESH-INTERVAL:P3D
CALSCALE:GREGORIAN
BEGIN:VEVENT
DTSTART:20210717T223000Z
DTEND:20210718T030000Z
X-MICROSOFT-CDO-ALLDAYEVENT:FALSE
SUMMARY:OWA Live — July Concert Series
DESCRIPTION:Are you ready for our hottest music series yet? July 17th\, 24th and 31st from 5:30-10pm\, you can catch free\, live music on the OWA Island from regional and local musicians and favorites like The Tip Tops\, Red Clay Strays\, Miles Flatt Band\, Sugarcane Jane and more! Top your summer off with OWA Live\, the last three Saturdays in July. Each weekend will feature different genres. From high energy country music\, to folk\, rockabilly and soul\, OWA Live is just what the doctor ordered.\n\nStarting at 5:30pm on Saturday\, July 17\, country musicians the Miles Flatt Band will croon two one-hour sets for us followed by a live performance from regional Motown group The Tip Tops.
X-ALT-DESC;FMTTYPE=text/html:<p style="text-align:center">Are you ready for our hottest music series yet? July 17<span style="font-size:12px">th</span>\, 24<span style="font-size:12px">th</span>&nbsp\;and 31<span style="font-size:12px">st</span>&nbsp\;from 5:30-10pm\, you can catch free\, live music on the OWA Island from regional and local musicians and favorites like The Tip Tops\, Red Clay Strays\, Miles Flatt Band\, Sugarcane Jane and more! Top your summer off with OWA Live\, the last three Saturdays in July. Each weekend will feature different genres. From high energy country music\, to folk\, rockabilly and soul\, OWA Live is just what the doctor ordered.</p>\n\n<p style="text-align:center">Starting at 5:30pm on Saturday\, July 17\, country musicians the Miles Flatt Band will croon two one-hour sets for us followed by a live performance from regional Motown group The Tip Tops.</p>\n
LOCATION:1501 S. OWA Blvd. Foley\, AL. 36535
UID:e.1304.22159
SEQUENCE:3
DTSTAMP:20260420T114803Z
URL:https://business.eschamber.com/events/details/owa-live-july-concert-series-22159
END:VEVENT

END:VCALENDAR
