BEGIN:VCALENDAR
VERSION:2.0
PRODID:-//ChamberMaster//Event Calendar 2.0//EN
METHOD:PUBLISH
X-PUBLISHED-TTL:P3D
REFRESH-INTERVAL:P3D
CALSCALE:GREGORIAN
BEGIN:VEVENT
DTSTART:20210724T223000Z
DTEND:20210725T030000Z
X-MICROSOFT-CDO-ALLDAYEVENT:FALSE
SUMMARY:OWA Live — July Concert Series - Jul 24
DESCRIPTION:Are you ready for our hottest music series yet? July 17th\, 24th and 31st from 5:30-10pm\, you can catch free\, live music on the OWA Island from regional and local musicians and favorites like The Tip Tops\, Red Clay Strays\, Miles Flatt Band\, Sugarcane Jane and more! Top your summer off with OWA Live\, the last three Saturdays in July. Each weekend will feature different genres. From high energy country music\, to folk\, rockabilly and soul\, OWA Live is just what the doctor ordered.\n\nStarting at 5:30pm on Saturday\, July 24\, local folk country duo Sugarcane Jane will croon two one-hour sets for us followed by a live performance from regional rockabilly group the Red Clay Strays.
X-ALT-DESC;FMTTYPE=text/html:<p style="text-align:center">Are you ready for our hottest music series yet? July 17<span style="font-size:12px">th</span>\, 24<span style="font-size:12px">th</span>&nbsp\;and 31<span style="font-size:12px">st</span>&nbsp\;from 5:30-10pm\, you can catch free\, live music on the OWA Island from regional and local musicians and favorites like The Tip Tops\, Red Clay Strays\, Miles Flatt Band\, Sugarcane Jane and more! Top your summer off with OWA Live\, the last three Saturdays in July. Each weekend will feature different genres. From high energy country music\, to folk\, rockabilly and soul\, OWA Live is just what the doctor ordered.</p>\n\n<p style="text-align:center">Starting at 5:30pm on Saturday\, July 24\, local folk country duo Sugarcane Jane will croon two one-hour sets for us followed by a live performance from regional rockabilly group the Red Clay Strays.</p>\n
LOCATION:1501 S. OWA Blvd Foley\, AL. 36535
UID:e.1304.22160
SEQUENCE:3
DTSTAMP:20260420T115045Z
URL:https://business.eschamber.com/events/details/owa-live-july-concert-series-jul-24-22160
END:VEVENT

END:VCALENDAR
