BEGIN:VCALENDAR
VERSION:2.0
PRODID:-//ChamberMaster//Event Calendar 2.0//EN
METHOD:PUBLISH
X-PUBLISHED-TTL:P3D
REFRESH-INTERVAL:P3D
CALSCALE:GREGORIAN
BEGIN:VEVENT
DTSTART:20210731T223000Z
DTEND:20210801T030000Z
X-MICROSOFT-CDO-ALLDAYEVENT:FALSE
SUMMARY:OWA Live — July Concert Series - July 31
DESCRIPTION:Are you ready for our hottest music series yet? July 24th and 31st from 5:30-10pm\, you can catch free\, live music on the OWA Island from regional and local musicians and favorites like Walker Montgomery\, Mario Mena Band\, Red Clay Strays and Sugarcane Jane! Top your summer off with OWA Live\, the last two Saturdays in July. Each weekend will feature different genres. From high energy country music\, to folk\, rockabilly and soul\, OWA Live is just what the doctor ordered.\n\nStarting at 5:30pm on Saturday\, July 31\, the Mario Mena Band will croon two one-hour sets of blended country\, soul and Southern rock followed by a live performance from country singer-songwriter Walker Montgomery.
X-ALT-DESC;FMTTYPE=text/html:<p style="text-align:center">Are you ready for our hottest music series yet? July 24<span style="font-size:12px">th</span>&nbsp\;and 31<span style="font-size:12px">st</span>&nbsp\;from 5:30-10pm\, you can catch free\, live music on the OWA Island from regional and local musicians and favorites like Walker Montgomery\, Mario Mena Band\, Red Clay Strays and Sugarcane Jane! Top your summer off with OWA Live\, the last two Saturdays in July. Each weekend will feature different genres. From high energy country music\, to folk\, rockabilly and soul\, OWA Live is just what the doctor ordered.</p>\n\n<p style="text-align:center">Starting at 5:30pm on Saturday\, July 31\, the Mario Mena Band will croon two one-hour sets of blended country\, soul and Southern rock followed by a live performance from country singer-songwriter Walker Montgomery.</p>\n
LOCATION:1501 S. OWA Blvd. Foley\, AL. 36535
UID:e.1304.22300
SEQUENCE:3
DTSTAMP:20260420T115124Z
URL:https://business.eschamber.com/events/details/owa-live-july-concert-series-july-31-22300
END:VEVENT

END:VCALENDAR
