BEGIN:VCALENDAR
VERSION:2.0
PRODID:-//ChamberMaster//Event Calendar 2.0//EN
METHOD:PUBLISH
X-PUBLISHED-TTL:P3D
REFRESH-INTERVAL:P3D
CALSCALE:GREGORIAN
BEGIN:VEVENT
DTSTART;VALUE=DATE:20210704
DTEND;VALUE=DATE:20210705
TRANSP:TRANSPARENT
X-MICROSOFT-CDO-ALLDAYEVENT:TRUE
SUMMARY:OWA's 4th of July Celebration
DESCRIPTION:Join us for the area's biggest and most spectacular firework show!\n\nWe'll be celebrating Independence Day at OWA with family-friendly activities and live entertainment throughout the property followed by an epic fireworks show at 8:45pm on July 4th.This marvelous show timed perfectly with music can be seen throughout the entire property. Come early and save your seat for the show of the summer! This is a free event that is open to the public. Social distancing policies are in effect.\n\nCelebrate with a fun day in the streets of Downtown OWA and grab a delicious lunch. Want a little more thrill in your Independence Day adventure? Hop inside The Park at OWA and scream your heart out on Rollin' Thunder\, or take advantage of our Non-Rider Ticket and simply enjoy the view!
X-ALT-DESC;FMTTYPE=text/html:<h2><span style="color:rgb(0\, 0\, 206)">Join us for the area&rsquo\;s biggest and most spectacular firework show!</span></h2>\n\n<p>We&rsquo\;ll be celebrating Independence Day at OWA with family-friendly activities and live entertainment throughout the property followed by an epic fireworks show at 8:45pm on July 4th.This marvelous show timed perfectly with music can be seen throughout the entire property. Come early and save your seat for the show of the summer! This is a free event that is open to the public. Social distancing policies are in effect.</p>\n\n<p>Celebrate with a fun day in the streets of Downtown OWA and grab a delicious lunch. Want a little more thrill in your Independence Day adventure? Hop inside&nbsp\;<a href="https://visitowa.com/explore/the-park-at-owa/" style="box-sizing: border-box\; background-color: transparent\; color: rgb(23\, 40\, 82)\; max-width: unset\; cursor: pointer\;">The Park at OWA</a>&nbsp\;and scream your heart out on&nbsp\;<a href="https://visitowa.com/explore/the-park/rollin-thunder/" style="box-sizing: border-box\; background-color: transparent\; color: rgb(23\, 40\, 82)\; max-width: unset\; cursor: pointer\;">Rollin&rsquo\; Thunder</a>\, or take advantage of our Non-Rider Ticket and simply enjoy the view!</p>\n
LOCATION:1501 S. OWA Blvd.
UID:e.1304.17701
SEQUENCE:3
DTSTAMP:20260420T132155Z
URL:https://business.eschamber.com/events/details/owa-s-4th-of-july-celebration-17701
END:VEVENT

END:VCALENDAR
