BEGIN:VCALENDAR
VERSION:2.0
PRODID:-//ChamberMaster//Event Calendar 2.0//EN
METHOD:PUBLISH
X-PUBLISHED-TTL:P3D
REFRESH-INTERVAL:P3D
CALSCALE:GREGORIAN
BEGIN:VEVENT
DTSTART;VALUE=DATE:20211231
DTEND;VALUE=DATE:20220101
TRANSP:TRANSPARENT
X-MICROSOFT-CDO-ALLDAYEVENT:TRUE
SUMMARY:OWA's New Years Eve Fireworks
DESCRIPTION:Let's celebrate a new year together! We'll countdown together and blast off the fireworks early!\n\nSave the date for fireworks over OWA on New Year's Eve! Spend your New Year's Eve outdoors with your family in The Park or in Downtown\, and let's celebrate. We made it! This is a socially-distanced event. *Times TBA*
X-ALT-DESC;FMTTYPE=text/html:<p>Let&rsquo\;s celebrate a new year together! We&rsquo\;ll countdown together and blast off the fireworks early!</p>\n\n<p>Save the date for fireworks over OWA on New Year&rsquo\;s Eve! Spend your New Year&rsquo\;s Eve outdoors with your family in The Park or in Downtown\, and let&rsquo\;s celebrate. We made it! This is a socially-distanced event.&nbsp\;*Times TBA*</p>\n
LOCATION:OWA 1501 S OWA Blvd. Foley\, AL 36535
UID:e.1304.18226
SEQUENCE:3
DTSTAMP:20260419T120730Z
URL:https://business.eschamber.com/events/details/owa-s-new-years-eve-fireworks-18226
END:VEVENT

END:VCALENDAR
