BEGIN:VCALENDAR
VERSION:2.0
PRODID:-//ChamberMaster//Event Calendar 2.0//EN
METHOD:PUBLISH
X-PUBLISHED-TTL:P3D
REFRESH-INTERVAL:P3D
CALSCALE:GREGORIAN
BEGIN:VEVENT
DTSTART:20191117T000000Z
DTEND:20191117T020000Z
X-MICROSOFT-CDO-ALLDAYEVENT:FALSE
SUMMARY:OWA's 3rd Annual Tree Lighting Ceremony
DESCRIPTION:Mark your calendars for OWA's 3rd annual Tree Lighting Ceremony in the streets of Downtown OWA on Saturday\, Nov. 16.\n\nSpecial guests\, performances and more Christmas information coming soon!\n\nDowntown OWA is free and open to the public 7 days a week.\n\n**Time subject to change.**
X-ALT-DESC;FMTTYPE=text/html:<p>Mark your calendars for OWA&rsquo\;s 3rd annual Tree Lighting Ceremony in the streets of Downtown OWA on Saturday\, Nov. 16.</p>\n\n<p>Special guests\, performances and more Christmas information coming soon!</p>\n\n<p>Downtown OWA is free and open to the public 7 days a week.</p>\n\n<p>**Time subject to change.**</p>\n
LOCATION:OWA 10113 Foley Beach Express Foley\, AL 36535
UID:e.1304.12593
SEQUENCE:3
DTSTAMP:20260419T141837Z
URL:https://business.eschamber.com/events/details/owa-s-tree-lighting-11-16-2019-12593
END:VEVENT

END:VCALENDAR
