BEGIN:VCALENDAR
VERSION:2.0
PRODID:-//ChamberMaster//Event Calendar 2.0//EN
METHOD:PUBLISH
X-PUBLISHED-TTL:P3D
REFRESH-INTERVAL:P3D
CALSCALE:GREGORIAN
BEGIN:VEVENT
DTSTART:20210417T190000Z
DTEND:20210417T210000Z
X-MICROSOFT-CDO-ALLDAYEVENT:FALSE
SUMMARY:OWA Wine Fest
DESCRIPTION:Designed to educate and celebrate the spirit of renowned vintners\, the inaugural OWA Wine Fest will take you on a journey of flavor that will lead you through a vast exploration of wine growers.\n\nJoin us in Downtown OWA on Saturday\, Apr. 17 from 2-4pm for the inaugural OWA Wine Fest\, presented in partnership with C'est Le Vin Wine Bar & Shop. Taste\, stroll\, sip and celebrate samplings of the tastiest vintage situated amidst the darling pedestrian-only streetscapes of Downtown OWA.\n\nEnjoy the sounds of acoustic guitar music to accompany you on your journey throughout this festival of flavors.\n\nAll OWA Wine Fest participants are invited to use their complimentary wine journey punch card to take notes of the various tastings and rate their favorites. A limited number of wines from the event will be available by the bottle for purchase inside C'est Le Vin Wine Bar & Shop. The punch card will also allow you entry into a raffle to win a complimentary wine lovers gift basket with a value of $250!\n\nThis is a socially-distanced event with limited tickets available. Must be 21 or older to participate.
X-ALT-DESC;FMTTYPE=text/html:<p>Designed to educate and celebrate the spirit of renowned vintners\, the inaugural OWA Wine Fest will take you on a journey of flavor that will lead you through a vast exploration of wine growers.</p>\n\n<p>Join us in Downtown OWA on Saturday\, Apr. 17 from 2-4pm for the inaugural OWA Wine Fest\, presented in partnership with C&rsquo\;est Le Vin Wine Bar &amp\; Shop. Taste\, stroll\, sip and celebrate samplings of the tastiest vintage situated amidst the darling pedestrian-only streetscapes of Downtown OWA.</p>\n\n<p>Enjoy the sounds of acoustic guitar music to accompany you on your journey throughout this festival of flavors.</p>\n\n<p>All OWA Wine Fest participants are invited to use their complimentary wine journey punch card to take notes of the various tastings and rate their favorites. A limited number of wines from the event will be available by the bottle for purchase inside&nbsp\;<a href="https://visitowa.com/dining/cest-le-vin-wine-bar-shop/" style="box-sizing: border-box\; background-color: transparent\; color: rgb(23\, 40\, 82)\; max-width: unset\; cursor: pointer\;">C&rsquo\;est Le Vin Wine Bar &amp\; Shop</a>. The punch card will also allow you entry into a raffle to win a complimentary wine lovers gift basket with a value of $250!</p>\n\n<p>This is a socially-distanced event with limited tickets available. Must be 21 or older to participate.</p>\n
LOCATION:Downtown OWA 100 N OWA Blvd. Foley\, AL 36535
UID:e.1304.20566
SEQUENCE:3
DTSTAMP:20260423T192624Z
URL:https://business.eschamber.com/events/details/owa-wine-fest-20566
END:VEVENT

END:VCALENDAR
