BEGIN:VCALENDAR
VERSION:2.0
PRODID:-//ChamberMaster//Event Calendar 2.0//EN
METHOD:PUBLISH
X-PUBLISHED-TTL:P3D
REFRESH-INTERVAL:P3D
CALSCALE:GREGORIAN
BEGIN:VEVENT
DTSTART:20240804T210000Z
DTEND:20240805T010000Z
X-MICROSOFT-CDO-ALLDAYEVENT:FALSE
SUMMARY:Oyster Social Featuring Navy Cove Oysters
DESCRIPTION:We're exciting to bring guests an Oyster Social + Dinner with Navy Cove Oysters this August. Starting with a social mix and mingle with sparkling wine & delicious oysters\, followed by a four-course dinner showcasing Navy Cove   purchase your tickets today!
X-ALT-DESC;FMTTYPE=text/html:We&rsquo\;re exciting to bring guests an Oyster Social + Dinner with Navy Cove Oysters this August. Starting with a social mix and mingle with sparkling wine &amp\; delicious oysters\, followed by a four-course dinner showcasing Navy Cove &ndash\; purchase your tickets today!
LOCATION:The Barn at The Hope Farm
UID:e.1304.34130
SEQUENCE:3
DTSTAMP:20260419T175620Z
URL:https://business.eschamber.com/events/details/oyster-social-featuring-navy-cove-oysters-34130
END:VEVENT

END:VCALENDAR
