BEGIN:VCALENDAR
VERSION:2.0
PRODID:-//ChamberMaster//Event Calendar 2.0//EN
METHOD:PUBLISH
X-PUBLISHED-TTL:P3D
REFRESH-INTERVAL:P3D
CALSCALE:GREGORIAN
BEGIN:VEVENT
DTSTART:20201031T220000Z
DTEND:20201101T000000Z
X-MICROSOFT-CDO-ALLDAYEVENT:FALSE
SUMMARY:Park After Dark
DESCRIPTION:Join us Saturdays and Sundays from 5-7 pm\, October 10th through November 1st inside The Park at OWA for a variety of kid-friendly events and activities. From a singing pumpkin telling jokes to trick-or-treating with special characters and even a special hay maze*\, Park After Dark creates the perfect Halloween fun event time and time again for your family. So grab the kiddos and spend a few Halloween-themed evenings in The Park as they trick-or-treat and make lasting memories!\n\n?? Feel free to arrive in character (nothing too scary\, please) and enjoy the Park's rides in your favorite Halloween ensembles. Remember\, the Park is a no-scare zone\, just silly spooks behind the gates! But if you want to keep it scare-free all season long (even outside The Park gates)\, you can purchase a No Boo necklace for protection from ghouls and goblins. No Boo necklaces are sold at The Park ticket window and Parkside Gift Shop.\n\n\n\nSince non-riders can enter The Park for free\, and trick or treating is free as well\, Park After Dark is as budget-friendly as it is family-friendly! Keep in mind\, the hay maze inside The Park does require a paid wristband to access its fun and the special characters waiting for you. Want to know the ultimate way to top off the season? Dress the whole family in costume and enter our Monster Bash costume contest on Saturday\, October 31st! There are special medals and even CASH prizes up for grabs.\n\nCheck out the Halloween events page for all of the activities set to entice the friendliest ghost and the ghastliest ghoul from October 10th through November 1st.\n\n\n\n*General Admission (wristband) or season pass (wristband) required for access to the hay maze. \n\n??
X-ALT-DESC;FMTTYPE=text/html:<div>\n<div>\n<h4>Join us&nbsp\;<span style="color:rgb(128\, 0\, 128)">Saturdays and Sundays&nbsp\;</span>from 5-7 pm\, October 10th through November 1<span style="font-size:13.5px">st</span>&nbsp\;inside The Park at OWA for a variety of kid-friendly events and activities. From a&nbsp\;<span style="color:rgb(255\, 148\, 0)">singing pumpkin telling jokes&nbsp\;</span>to&nbsp\;<span style="color:rgb(128\, 0\, 128)">trick-or-treating with special characters&nbsp\;</span>and even a&nbsp\;<span style="color:rgb(255\, 148\, 0)">special hay maze*\,&nbsp\;</span><span style="color:rgb(128\, 0\, 128)">Park After Dark&nbsp\;</span>creates the perfect Halloween fun event time and time again for your family. So grab the kiddos and spend a few Halloween-themed evenings in The Park as they trick-or-treat and make lasting memories!</h4>\n\n<h4 style="text-align:center">?? Feel free to arrive in character&nbsp\;<span style="color:rgb(143\, 0\, 255)">(nothing too scary\, please)&nbsp\;</span>and enjoy the Park&rsquo\;s rides in your favorite Halloween ensembles. Remember\, the Park is a no-scare zone\, just silly spooks behind the gates! But if you want to keep it scare-free all season long (even outside The Park gates)\, you can purchase a No Boo necklace for protection from ghouls and goblins. No Boo necklaces are sold at The Park ticket window and Parkside Gift Shop.</h4>\n</div>\n</div>\n\n<h4>Since non-riders can enter The Park for free\, and trick or treating is free as well\, Park After Dark is as&nbsp\;<span style="color:rgb(255\, 122\, 0)">budget-friendly&nbsp\;</span><span style="font-size:16px">as it is family-friendly! Keep in mind\, the hay maze inside The Park does require a paid wristband to access its fun and the special characters waiting for you.&nbsp\;</span>Want to know the ultimate way to top off the season? Dress the whole family in costume and enter our&nbsp\;<a href="https://visitowa.com/explore/events/monster-bash/" rel="noopener" style="box-sizing: border-box\; line-height: inherit\; background-color: transparent\; color: rgb(0\, 178\, 196)\; text-decoration-line: none\; cursor: pointer\; font-size: 16px\;" target="_blank">Monster Bash</a><span style="font-size:16px">&nbsp\;costume contest on Saturday\, October 31st! There are special medals and even&nbsp\;</span><span style="color:rgb(154\, 9\, 152)">CASH&nbsp\;</span><span style="font-size:16px">prizes up for grabs.</span></h4>\n\n<h4 style="text-align:center">Check out the&nbsp\;<a href="https://visitowa.com/explore/halloween-at-owa/" rel="noopener" style="box-sizing: border-box\; line-height: inherit\; background-color: transparent\; color: rgb(0\, 178\, 196)\; text-decoration-line: none\; cursor: pointer\; font-size: 16px\;" target="_blank">Halloween events page</a><span style="font-size:16px">&nbsp\;for all of the activities set to entice the friendliest ghost and the ghastliest ghoul from October 10th through November 1st.</span></h4>\n\n<div>\n<div>\n<h4><em>*General Admission (wristband) or season pass (wristband) required for access to the hay maze.&nbsp\;</em></h4>\n\n<h1 style="text-align:center">??</h1>\n</div>\n</div>\n
LOCATION:1501 S. OWA Blvd. Foley\,Al 36535
UID:e.1304.14865
SEQUENCE:3
DTSTAMP:20260424T043609Z
URL:https://business.eschamber.com/events/details/park-after-dark-10-31-2020-14865
END:VEVENT

END:VCALENDAR
