BEGIN:VCALENDAR
VERSION:2.0
PRODID:-//ChamberMaster//Event Calendar 2.0//EN
METHOD:PUBLISH
X-PUBLISHED-TTL:P3D
REFRESH-INTERVAL:P3D
CALSCALE:GREGORIAN
BEGIN:VEVENT
DTSTART:20191207T160000Z
DTEND:20191207T200000Z
X-MICROSOFT-CDO-ALLDAYEVENT:FALSE
SUMMARY:Paws and Claus
DESCRIPTION:The Baldwin County Animal Shelter is hosting a Paws and Claus event this Saturday\, December 7\, 2019 from 10:00 a.m. to 2:00 p.m. The event will include a rabies clinic\, bounce house\, hot chocolate\, coffee and cookies\, a puppy kissing booth and more! Santa will be at the event ready to take photos - kids and pets are welcome!
X-ALT-DESC;FMTTYPE=text/html:The Baldwin County Animal Shelter is hosting a Paws and Claus event this Saturday\, December 7\, 2019 from 10:00 a.m. to 2:00 p.m. The event will include a rabies clinic\, bounce house\, hot chocolate\, coffee and cookies\, a puppy kissing booth and more! Santa will be at the event ready to take photos - kids and pets are welcome!
LOCATION:Baldwin County Animal Shelter\, 15050 County Road 49\, Summerdale\, AL
UID:e.1304.13157
SEQUENCE:3
DTSTAMP:20260419T141806Z
URL:https://business.eschamber.com/events/details/paws-and-claus-13157
END:VEVENT

END:VCALENDAR
