BEGIN:VCALENDAR
VERSION:2.0
PRODID:-//ChamberMaster//Event Calendar 2.0//EN
METHOD:PUBLISH
X-PUBLISHED-TTL:P3D
REFRESH-INTERVAL:P3D
CALSCALE:GREGORIAN
BEGIN:VEVENT
DTSTART:20210110T210000Z
DTEND:20210110T221500Z
X-MICROSOFT-CDO-ALLDAYEVENT:FALSE
SUMMARY:Piano Recital: Schubert\, Liszt and the Art of Transcription
DESCRIPTION:The St. Francis Music Society is pleased to present the third concert of their 2020-21 concert series: Schubert\, Liszt and the Art of Transcription\, featuring Dr. Robert Holm\, accomplished Steinway Artist and professor of music at the University of South Alabama. Sit back and relish the intimate lyricism of Franz Schubert\, the spellbinding virtuosity of Franz Liszt as well as an enthralling blend of the two composers in Liszt's transcriptions of Schubert's Lieder (art songs). Also featured on the program are Liszt's riveting rendition of Wagner's "Isolde's Liebstod" from Tristan und Isolde and his brilliant Concert Paraphrase of Verdi's Rigoletto. Whether you love solo piano or music originally composed for the human voice\, this event is sure to delight.
X-ALT-DESC;FMTTYPE=text/html:The St. Francis Music Society is pleased to present the third concert of their 2020-21 concert series: Schubert\, Liszt and the Art of Transcription\, featuring Dr. Robert Holm\, accomplished Steinway Artist and professor of music at the University of South Alabama. Sit back and relish the intimate lyricism of Franz Schubert\, the spellbinding virtuosity of Franz Liszt as well as an enthralling blend of the two composers in Liszt&rsquo\;s transcriptions of Schubert&rsquo\;s Lieder (art songs). Also featured on the program are Liszt&rsquo\;s riveting rendition of Wagner&rsquo\;s &ldquo\;Isolde&rsquo\;s Liebstod&rdquo\; from Tristan und Isolde and his brilliant Concert Paraphrase of Verdi&rsquo\;s Rigoletto. Whether you love solo piano or music originally composed for the human voice\, this event is sure to delight.
LOCATION:St. Francis at the Point Anglican Church\, 17280 Scenic Highway 98\, Fairhope\, Alabama 36532
UID:e.1304.16996
SEQUENCE:3
DTSTAMP:20260424T002039Z
URL:https://business.eschamber.com/events/details/piano-recital-schubert-liszt-and-the-art-of-transcription-16996
END:VEVENT

END:VCALENDAR
