BEGIN:VCALENDAR
VERSION:2.0
PRODID:-//ChamberMaster//Event Calendar 2.0//EN
METHOD:PUBLISH
X-PUBLISHED-TTL:P3D
REFRESH-INTERVAL:P3D
CALSCALE:GREGORIAN
BEGIN:VEVENT
DTSTART;VALUE=DATE:20201105
DTEND;VALUE=DATE:20201106
TRANSP:TRANSPARENT
X-MICROSOFT-CDO-ALLDAYEVENT:TRUE
SUMMARY:Plein Air Fairhope 2020
DESCRIPTION:Please come watch the artists paint in Fairhope.
X-ALT-DESC;FMTTYPE=text/html:Please come watch the artists paint in Fairhope.
LOCATION:Fairhope\, AL
UID:e.1304.14841
SEQUENCE:3
DTSTAMP:20260424T032004Z
URL:https://business.eschamber.com/events/details/plein-air-fairhope-2020-11-05-2020-14841
END:VEVENT

END:VCALENDAR
