BEGIN:VCALENDAR
VERSION:2.0
PRODID:-//ChamberMaster//Event Calendar 2.0//EN
METHOD:PUBLISH
X-PUBLISHED-TTL:P3D
REFRESH-INTERVAL:P3D
CALSCALE:GREGORIAN
BEGIN:VEVENT
DTSTART:20191005T150000Z
DTEND:20191006T030000Z
X-MICROSOFT-CDO-ALLDAYEVENT:FALSE
SUMMARY:Polo at the Point
DESCRIPTION:As the Gulf Coast's most prestigious charity sporting event\, Polo at the Point has raised millions of dollars benefitting cancer research\, local non-profit organizations\, and children's charities. This year\, the Thomas Hospital Foundation has been selected as the main beneficiary. Through your generous support of Polo at the Point\, children of Baldwin & Mobile counties receive the best healthcare available.
X-ALT-DESC;FMTTYPE=text/html:As the Gulf Coast&rsquo\;s most prestigious charity sporting event\, Polo at the Point has raised millions of dollars benefitting cancer research\, local non-profit organizations\, and children&rsquo\;s charities. This year\, the Thomas Hospital Foundation has been selected as the main beneficiary. Through your generous support of Polo at the Point\, children of Baldwin &amp\; Mobile counties receive the best healthcare available.
LOCATION:CLEARWATER-SONNY HILL POLO COMPLEX 7670 Dairy Road Fairhope\, Alabama 36532
UID:e.1304.12931
SEQUENCE:3
DTSTAMP:20260419T154810Z
URL:https://business.eschamber.com/events/details/polo-at-the-point-12931
END:VEVENT

END:VCALENDAR
