BEGIN:VCALENDAR
VERSION:2.0
PRODID:-//ChamberMaster//Event Calendar 2.0//EN
METHOD:PUBLISH
X-PUBLISHED-TTL:P3D
REFRESH-INTERVAL:P3D
CALSCALE:GREGORIAN
BEGIN:VEVENT
DTSTART:20210306T150000Z
DTEND:20210306T180000Z
X-MICROSOFT-CDO-ALLDAYEVENT:FALSE
SUMMARY:Port of Mobile Cruise
DESCRIPTION:This cruise winds through the scenic delta and down the historic Mobile River for a relaxing voyage through the Port of Mobile. Along the way on this three-hour excursion\, we explore one of the nation's busiest harbors. Guests will enjoy a rare waterfront view of all the activity at the state docks and within the larger port\, then return along the head of Mobile Bay. Experience it all from the comfort of the Delta Explorer. The U.S. Coast Guard-licensed covered boat features bench seating and a restroom facility and is handicapped accessible. The boat will operate at half capacity to allow for adequate social distancing. Guests are requested to wear facemasks.
X-ALT-DESC;FMTTYPE=text/html:This cruise winds through the scenic delta and down the historic Mobile River for a relaxing voyage through the Port of Mobile. Along the way on this three-hour excursion\, we explore one of the nation&#39\;s busiest harbors. Guests will enjoy a rare waterfront view of all the activity at the state docks and within the larger port\, then return along the head of Mobile Bay. Experience it all from the comfort of the Delta Explorer. The U.S. Coast Guard-licensed covered boat features bench seating and a restroom facility and is handicapped accessible. The boat will operate at half capacity to allow for adequate social distancing. Guests are requested to wear facemasks.
LOCATION:
UID:e.1304.19447
SEQUENCE:3
DTSTAMP:20260423T204835Z
URL:https://business.eschamber.com/events/details/port-of-mobile-cruise-03-06-2021-19447
END:VEVENT

END:VCALENDAR
