BEGIN:VCALENDAR
VERSION:2.0
PRODID:-//ChamberMaster//Event Calendar 2.0//EN
METHOD:PUBLISH
X-PUBLISHED-TTL:P3D
REFRESH-INTERVAL:P3D
CALSCALE:GREGORIAN
BEGIN:VEVENT
DTSTART:20240706T200000Z
DTEND:20240706T220000Z
X-MICROSOFT-CDO-ALLDAYEVENT:FALSE
SUMMARY:Purple Madness - A Tribute to Prince
DESCRIPTION:Head to OWA Theater on July 5th & 6th to see The Purple Madness   A Tribute to Prince! The "Purple Madness" is the ultimate celebration of the most widely beloved entertainer and profoundly influential artist of all-time\, Prince. Bobby Miller presents an electrifying performance that can be best described as high energy and a "must see" performance.\n\n\n\nThe Prince Purple Madness Tribute Show have all but perfected every nuance in recreating the sights and sounds of the artist Prince. The Production team consist of Bobby Miller as the artist\, backed by some of the most talented dancers and musicians that have toured the US and abroad. Collectively\, the team consists of over a 100 years of music experience. The group lovingly describes their show as a performance that is second to none
X-ALT-DESC;FMTTYPE=text/html:Head to OWA Theater on July 5th &amp\; 6th to see The Purple Madness &mdash\; A Tribute to Prince! The &ldquo\;Purple Madness&rdquo\; is the ultimate celebration of the most widely beloved entertainer and profoundly influential artist of all-time\, Prince. Bobby Miller presents an electrifying performance that can be best described as high energy and a &ldquo\;must see&rdquo\; performance.<br />\n<br />\nThe Prince Purple Madness Tribute Show have all but perfected every nuance in recreating the sights and sounds of the artist Prince. The Production team consist of Bobby Miller as the artist\, backed by some of the most talented dancers and musicians that have toured the US and abroad. Collectively\, the team consists of over a 100 years of music experience. The group lovingly describes their show as a performance that is second to none
LOCATION:Location: OWA Theater
UID:e.1304.31395
SEQUENCE:3
DTSTAMP:20260419T175754Z
URL:https://business.eschamber.com/events/details/purple-madness-a-tribute-to-prince-07-06-2024-31395
END:VEVENT

END:VCALENDAR
