BEGIN:VCALENDAR
VERSION:2.0
PRODID:-//ChamberMaster//Event Calendar 2.0//EN
METHOD:PUBLISH
X-PUBLISHED-TTL:P3D
REFRESH-INTERVAL:P3D
CALSCALE:GREGORIAN
BEGIN:VEVENT
DTSTART:20210417T000000Z
DTEND:20210417T020000Z
X-MICROSOFT-CDO-ALLDAYEVENT:FALSE
SUMMARY:Radio Days: BayCities Improv Company presents Alice in Wonderland
DESCRIPTION:Step back in time and become a member of a live 1940's studio audience while BayCities' IMPROVactive actors revisit classic radio dramas in this new series.
X-ALT-DESC;FMTTYPE=text/html:Step back in time and become a member of a live 1940&#39\;s studio audience while BayCities&#39\; IMPROVactive actors revisit classic radio dramas in this new series.
LOCATION:Eastern Shore Art Center\, 401 Oak Street\, Fairhope\, AL
UID:e.1304.20582
SEQUENCE:3
DTSTAMP:20260423T212220Z
URL:https://business.eschamber.com/events/details/radio-days-baycities-improv-company-presents-alice-in-wonderland-20582
END:VEVENT

END:VCALENDAR
