BEGIN:VCALENDAR
VERSION:2.0
PRODID:-//ChamberMaster//Event Calendar 2.0//EN
METHOD:PUBLISH
X-PUBLISHED-TTL:P3D
REFRESH-INTERVAL:P3D
CALSCALE:GREGORIAN
BEGIN:VEVENT
DTSTART:20210525T180000Z
DTEND:20210525T190000Z
X-MICROSOFT-CDO-ALLDAYEVENT:FALSE
SUMMARY:Real Estate Auction
DESCRIPTION:Real Estate Auction - Multiple Bank-Owned Properties - hosted by Granger Thagard. 11 Properties located in Helena\, Pelham\, Jemison\, and Lay Lake.
X-ALT-DESC;FMTTYPE=text/html:Real Estate Auction - Multiple Bank-Owned Properties - hosted by Granger Thagard. 11 Properties located in Helena\, Pelham\, Jemison\, and Lay Lake.
LOCATION:Inverness Country Club\, 1 Country Club Drive\, Birmingham\, AL 35242
UID:e.1304.20756
SEQUENCE:3
DTSTAMP:20260423T175041Z
URL:https://business.eschamber.com/events/details/real-estate-auction-20756
END:VEVENT

END:VCALENDAR
