BEGIN:VCALENDAR
VERSION:2.0
PRODID:-//ChamberMaster//Event Calendar 2.0//EN
METHOD:PUBLISH
X-PUBLISHED-TTL:P3D
REFRESH-INTERVAL:P3D
CALSCALE:GREGORIAN
BEGIN:VEVENT
DTSTART:20230202T140000Z
DTEND:20230202T153000Z
X-MICROSOFT-CDO-ALLDAYEVENT:FALSE
SUMMARY:Rebranding: A Spot of Tea
DESCRIPTION:A Spot Of Tea: Rebranding Open House
X-ALT-DESC;FMTTYPE=text/html:A Spot Of Tea: Rebranding Open House
LOCATION:310 Dauphin Mobile\, AL 36602
UID:e.1304.27208
SEQUENCE:3
DTSTAMP:20260421T164605Z
URL:https://business.eschamber.com/events/details/rebranding-a-spot-of-tea-27208
END:VEVENT

END:VCALENDAR
