BEGIN:VCALENDAR
VERSION:2.0
PRODID:-//ChamberMaster//Event Calendar 2.0//EN
METHOD:PUBLISH
X-PUBLISHED-TTL:P3D
REFRESH-INTERVAL:P3D
CALSCALE:GREGORIAN
BEGIN:VEVENT
DTSTART:20230801T180000Z
DTEND:20230801T220000Z
X-MICROSOFT-CDO-ALLDAYEVENT:FALSE
SUMMARY:Red Cross Blood Drive
DESCRIPTION:Fairhope Christian Church will be hosting a Red Cross Blood Drive. Walk-ins are welcome or you can go online to RedCrossBlood.org to sign up for a time slot.
X-ALT-DESC;FMTTYPE=text/html:Fairhope Christian Church will be hosting a Red Cross Blood Drive. Walk-ins are welcome or you can go online to RedCrossBlood.org to sign up for a time slot.
LOCATION:Fairhope Christian Church\, 349 Fairwood Blvd.\, Fairhope\, AL
UID:e.1304.27750
SEQUENCE:3
DTSTAMP:20260420T035458Z
URL:https://business.eschamber.com/events/details/red-cross-blood-drive-08-01-2023-27750
END:VEVENT

END:VCALENDAR
