BEGIN:VCALENDAR
VERSION:2.0
PRODID:-//ChamberMaster//Event Calendar 2.0//EN
METHOD:PUBLISH
X-PUBLISHED-TTL:P3D
REFRESH-INTERVAL:P3D
CALSCALE:GREGORIAN
BEGIN:VEVENT
DTSTART:20210715T170000Z
DTEND:20210715T180000Z
X-MICROSOFT-CDO-ALLDAYEVENT:FALSE
SUMMARY:Ribbon Cutting: 98 Cows
DESCRIPTION:Ribbon Cutting: 98 Cows
X-ALT-DESC;FMTTYPE=text/html:Ribbon Cutting: 98 Cows
LOCATION:70 S. Section Street #3 Fairhope\, AL 36523
UID:e.1304.22067
SEQUENCE:3
DTSTAMP:20260420T114021Z
URL:https://business.eschamber.com/events/details/ribbon-cutting-98-cows-22067
END:VEVENT

END:VCALENDAR
