BEGIN:VCALENDAR
VERSION:2.0
PRODID:-//ChamberMaster//Event Calendar 2.0//EN
METHOD:PUBLISH
X-PUBLISHED-TTL:P3D
REFRESH-INTERVAL:P3D
CALSCALE:GREGORIAN
BEGIN:VEVENT
DTSTART:20230203T160000Z
DTEND:20230203T180000Z
X-MICROSOFT-CDO-ALLDAYEVENT:FALSE
SUMMARY:Ribbon Cutting & Grand Opening: Bondi Bowls Gulf Coast
DESCRIPTION:Ribbon Cutting & Grand Opening: Bondi Bowls Gulf Coast
X-ALT-DESC;FMTTYPE=text/html:Ribbon Cutting &amp\; Grand Opening: Bondi Bowls Gulf Coast
LOCATION:1501 US Hwy 98 Unit 1A Daphne\, AL 36526
UID:e.1304.27223
SEQUENCE:3
DTSTAMP:20260421T164621Z
URL:https://business.eschamber.com/events/details/ribbon-cutting-grand-opening-bondi-bowls-gulf-coast-27223
END:VEVENT

END:VCALENDAR
