BEGIN:VCALENDAR
VERSION:2.0
PRODID:-//ChamberMaster//Event Calendar 2.0//EN
METHOD:PUBLISH
X-PUBLISHED-TTL:P3D
REFRESH-INTERVAL:P3D
CALSCALE:GREGORIAN
BEGIN:VEVENT
DTSTART:20210730T213000Z
DTEND:20210730T223000Z
X-MICROSOFT-CDO-ALLDAYEVENT:FALSE
SUMMARY:Ribbon Cutting & Grand Opening: Greek Gals Yummies\, Funnel Cakes\, Diner & More!
DESCRIPTION:Ribbon Cutting & Grand Opening: Greek Gals Yummies\, Funnel Cakes\, Diner & More!
X-ALT-DESC;FMTTYPE=text/html:Ribbon Cutting &amp\; Grand Opening: Greek Gals Yummies\, Funnel Cakes\, Diner &amp\; More!
LOCATION:108 N Section St\, Fairhope\, AL 36532
UID:e.1304.22242
SEQUENCE:3
DTSTAMP:20260420T115156Z
URL:https://business.eschamber.com/events/details/ribbon-cutting-grand-opening-greek-gals-yummies-funnel-cakes-diner-more-22242
END:VEVENT

END:VCALENDAR
