BEGIN:VCALENDAR
VERSION:2.0
PRODID:-//ChamberMaster//Event Calendar 2.0//EN
METHOD:PUBLISH
X-PUBLISHED-TTL:P3D
REFRESH-INTERVAL:P3D
CALSCALE:GREGORIAN
BEGIN:VEVENT
DTSTART:20230831T220000Z
DTEND:20230901T010000Z
X-MICROSOFT-CDO-ALLDAYEVENT:FALSE
SUMMARY:Ribbon Cutting & Open House: Coastal Events and Design
DESCRIPTION:Ribbon Cutting & Open House: Coastal Events and Design
X-ALT-DESC;FMTTYPE=text/html:&nbsp\;Ribbon Cutting &amp\; Open House: Coastal Events and Design<br />\n
LOCATION:25369 US Highway 98 Suite E Daphne\, Alabama 36526
UID:e.1304.28001
SEQUENCE:3
DTSTAMP:20260420T035505Z
URL:https://business.eschamber.com/events/details/ribbon-cutting-open-house-coastal-events-and-design-28001
END:VEVENT

END:VCALENDAR
