BEGIN:VCALENDAR
VERSION:2.0
PRODID:-//ChamberMaster//Event Calendar 2.0//EN
METHOD:PUBLISH
X-PUBLISHED-TTL:P3D
REFRESH-INTERVAL:P3D
CALSCALE:GREGORIAN
BEGIN:VEVENT
DTSTART:20230209T170000Z
DTEND:20230209T193000Z
X-MICROSOFT-CDO-ALLDAYEVENT:FALSE
SUMMARY:Ribbon Cutting & Open House Eastern Shore Republican Women
DESCRIPTION:Ribbon Cutting & Open House Eastern Shore Republican Women
X-ALT-DESC;FMTTYPE=text/html:&nbsp\;Ribbon Cutting &amp\; Open House&nbsp\;Eastern Shore Republican Women
LOCATION:Fairhope Yacht Club 101 Volanta Ave Fairhope\, AL 36532
UID:e.1304.26676
SEQUENCE:3
DTSTAMP:20260421T164754Z
URL:https://business.eschamber.com/events/details/ribbon-cutting-open-house-eastern-shore-republican-women-26676
END:VEVENT

END:VCALENDAR
