BEGIN:VCALENDAR
VERSION:2.0
PRODID:-//ChamberMaster//Event Calendar 2.0//EN
METHOD:PUBLISH
X-PUBLISHED-TTL:P3D
REFRESH-INTERVAL:P3D
CALSCALE:GREGORIAN
BEGIN:VEVENT
DTSTART:20231213T220000Z
DTEND:20231213T230000Z
X-MICROSOFT-CDO-ALLDAYEVENT:FALSE
SUMMARY:Ribbon Cutting & Open House: Kathy's Package Store - Fairhope
DESCRIPTION:Ribbon Cutting & Open House: Kathy's Package Store - Fairhope
X-ALT-DESC;FMTTYPE=text/html:&nbsp\;Ribbon Cutting &amp\; Open House: Kathy&#39\;s Package Store&nbsp\;- Fairhope
LOCATION:18153 Wright Blvd Fairhope\, AL 36532 (Next to Publix)
UID:e.1304.28615
SEQUENCE:3
DTSTAMP:20260420T190103Z
URL:https://business.eschamber.com/events/details/ribbon-cutting-open-house-kathy-s-package-store-fairhope-28615
END:VEVENT

END:VCALENDAR
