BEGIN:VCALENDAR
VERSION:2.0
PRODID:-//ChamberMaster//Event Calendar 2.0//EN
METHOD:PUBLISH
X-PUBLISHED-TTL:P3D
REFRESH-INTERVAL:P3D
CALSCALE:GREGORIAN
BEGIN:VEVENT
DTSTART:20240723T154500Z
DTEND:20240724T041500Z
X-MICROSOFT-CDO-ALLDAYEVENT:FALSE
SUMMARY:Ribbon Cutting & Open House: Mediterranean Sandwich Co
DESCRIPTION:Ribbon Cutting & Open House: Mediterranean Sandwich Co
X-ALT-DESC;FMTTYPE=text/html:&nbsp\;Ribbon Cutting &amp\; Open House: Mediterranean Sandwich Co<br />\n
LOCATION:9887 Hwy 104 Fairhope\, Alabama 36532 (same shopping center as Publix on 181)
UID:e.1304.32186
SEQUENCE:3
DTSTAMP:20260419T191220Z
URL:https://business.eschamber.com/events/details/ribbon-cutting-open-house-mediterranean-sandwich-co-32186
END:VEVENT

END:VCALENDAR
